BEGIN:VCALENDAR
VERSION:2.0
PRODID:-//Sabre//Sabre VObject 4.5.8//EN
CALSCALE:GREGORIAN
BEGIN:VEVENT
UID:criticalmass-one-bad-kreuznach-1774627200
DTSTAMP:20260422T173238Z
SUMMARY:Critical Mass Bad Kreuznach 27.03.2026
DTSTART;TZID=Europe/Berlin:20260327T170000
DTEND;TZID=Europe/Berlin:20260327T190000
LOCATION:Europaplatz vor dem Bahnhof\, Bad Kreuznach
GEO:49.842777;7.865192
URL;VALUE=URI:https://criticalmass.in/bad-kreuznach/2026-03-27
END:VEVENT
END:VCALENDAR
