BEGIN:VCALENDAR
VERSION:2.0
PRODID:-//Sabre//Sabre VObject 4.5.8//EN
CALSCALE:GREGORIAN
BEGIN:VEVENT
UID:criticalmass-one-bad-kreuznach-1751036400
DTSTAMP:20260423T041005Z
SUMMARY:Critical Mass Bad Kreuznach 27.06.2025
DTSTART;TZID=Europe/Berlin:20250627T170000
DTEND;TZID=Europe/Berlin:20250627T190000
LOCATION:Europaplatz vor dem Bahnhof\, Bad Kreuznach
GEO:49.842777;7.865192
URL;VALUE=URI:https://criticalmass.in/bad-kreuznach/2025-06-27
END:VEVENT
END:VCALENDAR
