BEGIN:VCALENDAR
VERSION:2.0
PRODID:-//Sabre//Sabre VObject 4.5.8//EN
CALSCALE:GREGORIAN
BEGIN:VEVENT
UID:criticalmass-one-bad-kreuznach-1717167600
DTSTAMP:20260424T065935Z
SUMMARY:Critical Mass Bad Kreuznach 31.05.2024
DTSTART;TZID=Europe/Berlin:20240531T170000
DTEND;TZID=Europe/Berlin:20240531T190000
LOCATION:Europaplatz vor dem Bahnhof\, Bad Kreuznach
GEO:49.842777;7.865192
URL;VALUE=URI:https://criticalmass.in/bad-kreuznach/2024-05-31
END:VEVENT
END:VCALENDAR
