BEGIN:VCALENDAR
VERSION:2.0
PRODID:-//Sabre//Sabre VObject 4.5.8//EN
CALSCALE:GREGORIAN
BEGIN:VEVENT
UID:criticalmass-one-bad-kreuznach-1682694000
DTSTAMP:20260422T084447Z
SUMMARY:Critical Mass Bad Kreuznach 28.04.2023
DTSTART;TZID=Europe/Berlin:20230428T170000
DTEND;TZID=Europe/Berlin:20230428T190000
LOCATION:Europaplatz vor dem Bahnhof\, Bad Kreuznach
GEO:49.842777;7.865192
URL;VALUE=URI:https://criticalmass.in/bad-kreuznach/2023-04-28
END:VEVENT
END:VCALENDAR
