BEGIN:VCALENDAR
VERSION:2.0
PRODID:-//Sabre//Sabre VObject 4.5.8//EN
CALSCALE:GREGORIAN
BEGIN:VEVENT
UID:criticalmass-one-bad-kreuznach-1572080400
DTSTAMP:20260422T173000Z
SUMMARY:Offizielle Fahrrad-Demo
DESCRIPTION:Diese Tour ist keine normale Critical Mass sondern ein angemeld
 eter Demonstrationszug. Das heißt: Schilder\, Banner\, Megafone und so we
 iter mitbringen !!
DTSTART;TZID=Europe/Berlin:20191026T110000
DTEND;TZID=Europe/Berlin:20191026T130000
LOCATION:Europaplatz vor dem Eingang des Bahnhofs\, Bad Kreuznach
GEO:49.842643;7.865465
URL;VALUE=URI:https://criticalmass.in/bad-kreuznach/2019-10-26
END:VEVENT
END:VCALENDAR
