BEGIN:VCALENDAR
VERSION:2.0
PRODID:-//Sabre//Sabre VObject 4.5.8//EN
CALSCALE:GREGORIAN
BEGIN:VEVENT
UID:criticalmass-one-bad-kreuznach-1569596400
DTSTAMP:20260422T203054Z
SUMMARY:Critical Mass Bad Kreuznach September
DTSTART;TZID=Europe/Berlin:20190927T170000
DTEND;TZID=Europe/Berlin:20190927T190000
LOCATION:Europaplatz vor dem Bahnhof\, Bad Kreuznach
GEO:49.842767;7.865111
URL;VALUE=URI:https://criticalmass.in/bad-kreuznach/2019-09-27
END:VEVENT
END:VCALENDAR
