BEGIN:VCALENDAR
VERSION:2.0
PRODID:-//Sabre//Sabre VObject 4.5.8//EN
CALSCALE:GREGORIAN
BEGIN:VEVENT
UID:criticalmass-one-bad-honnef-1695470400
DTSTAMP:20260426T013258Z
SUMMARY:Kidical Mass Bad Honnef 23.09.2023
DTSTART;TZID=Europe/Berlin:20230923T140000
DTEND;TZID=Europe/Berlin:20230923T160000
LOCATION:Linzer Str./Parkplatz Neuer Friedhof
GEO:50.632570;7.230158
URL;VALUE=URI:https://criticalmass.in/bad-honnef/kidical-mass-bad-honnef-se
 ptember-2023
END:VEVENT
END:VCALENDAR
