BEGIN:VCALENDAR
VERSION:2.0
PRODID:-//Sabre//Sabre VObject 4.5.8//EN
CALSCALE:GREGORIAN
BEGIN:VEVENT
UID:criticalmass-one-bad-honnef-1714744800
DTSTAMP:20260424T170144Z
SUMMARY:Kidical Mass Bad Honnef 03.05.2024
DTSTART;TZID=Europe/Berlin:20240503T160000
DTEND;TZID=Europe/Berlin:20240503T180000
LOCATION:Bad Honnef Konrad-Adenauer-Schule (KASch) Innenhof
GEO:50.646535;7.229636
URL;VALUE=URI:https://criticalmass.in/bad-honnef/kidical-mass-bad-honnef-ma
 i-2024
END:VEVENT
END:VCALENDAR
