BEGIN:VCALENDAR
VERSION:2.0
PRODID:-//Sabre//Sabre VObject 4.5.8//EN
CALSCALE:GREGORIAN
BEGIN:VEVENT
UID:criticalmass-one-bad-honnef-1683295200
DTSTAMP:20260425T133204Z
SUMMARY:Kidical Mass Bad Honnef 05.05.2023
DTSTART;TZID=Europe/Berlin:20230505T160000
DTEND;TZID=Europe/Berlin:20230505T180000
LOCATION:KASch\, Rheingoldweg 16
GEO:50.646564;7.229638
URL;VALUE=URI:https://criticalmass.in/bad-honnef/kidical-mass-bad-honnef-ma
 i-2023
END:VEVENT
END:VCALENDAR
