BEGIN:VCALENDAR
VERSION:2.0
PRODID:-//Sabre//Sabre VObject 4.5.8//EN
CALSCALE:GREGORIAN
BEGIN:VEVENT
UID:criticalmass-one-bad-homburg-1595160000
DTSTAMP:20260422T110431Z
SUMMARY:Critical Mass Bad Homburg 19.07.2020
DTSTART;TZID=Europe/Berlin:20200719T140000
DTEND;TZID=Europe/Berlin:20200719T160000
LOCATION:Bahnhofsvorplatz Bad Hombur
GEO:50.220852;8.621392
URL;VALUE=URI:https://criticalmass.in/bad-homburg/2020-07-19
END:VEVENT
END:VCALENDAR
