BEGIN:VCALENDAR
VERSION:2.0
PRODID:-//Sabre//Sabre VObject 4.5.8//EN
CALSCALE:GREGORIAN
BEGIN:VEVENT
UID:criticalmass-one-bad-homburg-1587297600
DTSTAMP:20260422T202459Z
SUMMARY:Critical Mass Bad Homburg 19.04.2020
DTSTART;TZID=Europe/Berlin:20200419T140000
DTEND;TZID=Europe/Berlin:20200419T160000
LOCATION:Bahnhofsvorplatz Bad Hombur
GEO:50.220852;8.621392
URL;VALUE=URI:https://criticalmass.in/bad-homburg/2020-04-19
END:VEVENT
END:VCALENDAR
