BEGIN:VCALENDAR
VERSION:2.0
PRODID:-//Sabre//Sabre VObject 4.5.8//EN
CALSCALE:GREGORIAN
BEGIN:VEVENT
UID:criticalmass-one-bad-homburg-1560686400
DTSTAMP:20260422T202429Z
SUMMARY:Critical Mass Bad Homburg 16.06.2019
DTSTART;TZID=Europe/Berlin:20190616T140000
DTEND;TZID=Europe/Berlin:20190616T160000
LOCATION:Bahnhofsvorplatz Bad Hombur
GEO:50.220852;8.621392
URL;VALUE=URI:https://criticalmass.in/bad-homburg/2019-06-16
END:VEVENT
END:VCALENDAR
