BEGIN:VCALENDAR
VERSION:2.0
PRODID:-//Sabre//Sabre VObject 4.5.8//EN
CALSCALE:GREGORIAN
BEGIN:VEVENT
UID:criticalmass-one-bad-hersfeld-1787925600
DTSTAMP:20260420T073848Z
SUMMARY:Critical Mass Bad Hersfeld 28.08.2026
DTSTART;TZID=Europe/Berlin:20260828T160000
DTEND;TZID=Europe/Berlin:20260828T180000
LOCATION:Schildepark
GEO:50.871224;9.709188
URL;VALUE=URI:https://criticalmass.in/bad-hersfeld/2026-08-28
END:VEVENT
END:VCALENDAR
