BEGIN:VCALENDAR
VERSION:2.0
PRODID:-//Sabre//Sabre VObject 4.5.8//EN
CALSCALE:GREGORIAN
BEGIN:VEVENT
UID:criticalmass-one-bad-hersfeld-1780063200
DTSTAMP:20260420T024523Z
SUMMARY:Critical Mass Bad Hersfeld 29.05.2026
DTSTART;TZID=Europe/Berlin:20260529T160000
DTEND;TZID=Europe/Berlin:20260529T180000
LOCATION:Schildepark
GEO:50.871224;9.709188
URL;VALUE=URI:https://criticalmass.in/bad-hersfeld/2026-05-29
END:VEVENT
END:VCALENDAR
