BEGIN:VCALENDAR
VERSION:2.0
PRODID:-//Sabre//Sabre VObject 4.5.8//EN
CALSCALE:GREGORIAN
BEGIN:VEVENT
UID:criticalmass-one-bad-hersfeld-1777039200
DTSTAMP:20260420T025047Z
SUMMARY:Critical Mass Bad Hersfeld 24.04.2026
DTSTART;TZID=Europe/Berlin:20260424T160000
DTEND;TZID=Europe/Berlin:20260424T180000
LOCATION:Schildepark
GEO:50.871224;9.709188
URL;VALUE=URI:https://criticalmass.in/bad-hersfeld/2026-04-24
END:VEVENT
END:VCALENDAR
