BEGIN:VCALENDAR
VERSION:2.0
PRODID:-//Sabre//Sabre VObject 4.5.8//EN
CALSCALE:GREGORIAN
BEGIN:VEVENT
UID:criticalmass-one-bad-endorf-1746262800
DTSTAMP:20260421T182754Z
SUMMARY:Kidical Mass Bad Endorf 03.05.2025
DESCRIPTION:Fahrradschulbus 09.05.25\, 7:15h Teisenhamer Straße 17\;\nKidi
 cal Mass Schulstraße 09.05.25\, ab 7:20h-8:15h\n\nAb 10:30h Fahrräder ve
 rschönern und Plakate basteln am Kirchplatz.\nEnde Frühlingsmarkt in der
  Solawi Jolling.
DTSTART;TZID=Europe/Berlin:20250503T110000
DTEND;TZID=Europe/Berlin:20250503T130000
LOCATION:Bad Endorf Kirchplatz
GEO:47.908917;12.298085
URL;VALUE=URI:https://criticalmass.in/bad-endorf/kidical-mass-bad-endorf-ma
 i-2025
END:VEVENT
END:VCALENDAR
