BEGIN:VCALENDAR
VERSION:2.0
PRODID:-//Sabre//Sabre VObject 4.5.8//EN
CALSCALE:GREGORIAN
BEGIN:VEVENT
UID:criticalmass-one-bad-boll-1746795600
DTSTAMP:20260423T190226Z
SUMMARY:Kidical Mass Bad Boll 09.05.2025
DTSTART;TZID=Europe/Berlin:20250509T150000
DTEND;TZID=Europe/Berlin:20250509T170000
LOCATION:Bad Boll Schulhof Heinrich-Schickhardt-Schule
GEO:48.640840;9.608950
URL;VALUE=URI:https://criticalmass.in/bad-boll/kidical-mass-bad-boll-mai-20
 25
END:VEVENT
END:VCALENDAR
