BEGIN:VCALENDAR
VERSION:2.0
PRODID:-//Sabre//Sabre VObject 4.5.8//EN
CALSCALE:GREGORIAN
BEGIN:VEVENT
UID:criticalmass-one-asheville-1769868000
DTSTAMP:20260422T111505Z
SUMMARY:Alex Pretti Memorial Ride — Sequoya Moore
DESCRIPTION:Meet at 2 p.m. at the AVL/ WNC Riverlink Sculpture Park.
DTSTART;TZID=America/New_York:20260131T090000
DTEND;TZID=America/New_York:20260131T110000
LOCATION:AVL/ WNC Riverlink Sculpture Park\, Asheville
GEO:35.585632;-82.565530
URL;VALUE=URI:https://criticalmass.in/asheville/alex-pretti-memorial-ride-a
 sheville-2026-01-31
END:VEVENT
END:VCALENDAR
