BEGIN:VCALENDAR
VERSION:2.0
PRODID:-//Sabre//Sabre VObject 4.5.8//EN
CALSCALE:GREGORIAN
BEGIN:VEVENT
UID:criticalmass-one-alzey-1714204800
DTSTAMP:20260421T182724Z
SUMMARY:Kidical Mass Alzey 27.04.2024
DESCRIPTION:Wir fahren laut\, bunt und schrill über DRK-Krankenhaus\, Spie
 lplatz "Am Herdry"\, Weinheimer Landstraße\, Stadt-und Kreisverwaltung\, 
 Römerkreisel\, Nibelungenstraße\, Ostdeutsche Straße zur Fußgängerzon
 e und enden am Fischmarkt. Wir nehmen Rücksicht auch auf die Kleinsten un
 d nehmen uns Zeit.
DTSTART;TZID=Europe/Berlin:20240427T100000
DTEND;TZID=Europe/Berlin:20240427T120000
LOCATION:Alzey Bahnhof
GEO:49.750058;8.110011
URL;VALUE=URI:https://criticalmass.in/alzey/kidical-mass-alzey-april-2024
END:VEVENT
END:VCALENDAR
