BEGIN:VCALENDAR
VERSION:2.0
PRODID:-//Sabre//Sabre VObject 4.5.8//EN
CALSCALE:GREGORIAN
BEGIN:VEVENT
UID:criticalmass-one-altona-1714143600
DTSTAMP:20260425T014554Z
SUMMARY:Eidelstedt Frühlingsfahrt 17.00 Uhr Treffpunkt am steeedt
DESCRIPTION:Am 26.04.2024ist die Eidelstedt Frühlingsfahrt um 17.00 Uhr Tr
 effpunkt am steeedt
DTSTART;TZID=Europe/Berlin:20240426T170000
DTEND;TZID=Europe/Berlin:20240426T190000
LOCATION:Am steeedt
URL;VALUE=URI:https://criticalmass.in/altona/2024-04-26
END:VEVENT
END:VCALENDAR
