BEGIN:VCALENDAR
VERSION:2.0
PRODID:-//Sabre//Sabre VObject 4.5.8//EN
CALSCALE:GREGORIAN
BEGIN:VEVENT
UID:criticalmass-one-altona-1613149200
DTSTAMP:20260425T002514Z
SUMMARY:Critical Mass Altona 12.02.2021
DTSTART;TZID=Europe/Berlin:20210212T180000
DTEND;TZID=Europe/Berlin:20210212T200000
LOCATION:Rathaus Altona
GEO:53.547517;9.935285
URL;VALUE=URI:https://criticalmass.in/altona/2021-02-12
END:VEVENT
END:VCALENDAR
