BEGIN:VCALENDAR
VERSION:2.0
PRODID:-//Sabre//Sabre VObject 4.5.8//EN
CALSCALE:GREGORIAN
BEGIN:VEVENT
UID:criticalmass-one-altona-1610125200
DTSTAMP:20260424T191519Z
SUMMARY:Critical Mass Altona 08.01.2021
DTSTART;TZID=Europe/Berlin:20210108T180000
DTEND;TZID=Europe/Berlin:20210108T200000
LOCATION:Rathaus Altona
GEO:53.547517;9.935285
URL;VALUE=URI:https://criticalmass.in/altona/2021-01-08
END:VEVENT
END:VCALENDAR
