BEGIN:VCALENDAR
VERSION:2.0
PRODID:-//Sabre//Sabre VObject 4.5.8//EN
CALSCALE:GREGORIAN
BEGIN:VEVENT
UID:criticalmass-one-altona-1605286800
DTSTAMP:20260424T105858Z
SUMMARY:Critical Mass Altona 13.11.2020
DTSTART;TZID=Europe/Berlin:20201113T180000
DTEND;TZID=Europe/Berlin:20201113T200000
LOCATION:Rathaus Altona
GEO:53.547517;9.935285
URL;VALUE=URI:https://criticalmass.in/altona/2020-11-13
END:VEVENT
END:VCALENDAR
