BEGIN:VCALENDAR
VERSION:2.0
PRODID:-//Sabre//Sabre VObject 4.5.8//EN
CALSCALE:GREGORIAN
BEGIN:VEVENT
UID:criticalmass-one-altona-1599840000
DTSTAMP:20260424T135032Z
SUMMARY:Critical Mass Altona 11.09.2020
DTSTART;TZID=Europe/Berlin:20200911T180000
DTEND;TZID=Europe/Berlin:20200911T200000
LOCATION:Rathaus Altona
GEO:53.547517;9.935285
URL;VALUE=URI:https://criticalmass.in/altona/2020-09-11
END:VEVENT
END:VCALENDAR
