BEGIN:VCALENDAR
VERSION:2.0
PRODID:-//Sabre//Sabre VObject 4.5.8//EN
CALSCALE:GREGORIAN
BEGIN:VEVENT
UID:criticalmass-one-altona-1584118800
DTSTAMP:20260424T174706Z
SUMMARY:Critical Mass Altona 13.03.2020
DTSTART;TZID=Europe/Berlin:20200313T180000
DTEND;TZID=Europe/Berlin:20200313T200000
LOCATION:Rathaus Altona
GEO:53.547517;9.935285
URL;VALUE=URI:https://criticalmass.in/altona/2020-03-13
END:VEVENT
END:VCALENDAR
