BEGIN:VCALENDAR
VERSION:2.0
PRODID:-//Sabre//Sabre VObject 4.5.8//EN
CALSCALE:GREGORIAN
BEGIN:VEVENT
UID:criticalmass-one-altona-1578675600
DTSTAMP:20260424T105915Z
SUMMARY:Critical Mass Altona 10.01.2020
DTSTART;TZID=Europe/Berlin:20200110T180000
DTEND;TZID=Europe/Berlin:20200110T200000
LOCATION:Rathaus Altona
GEO:53.547517;9.935285
URL;VALUE=URI:https://criticalmass.in/altona/2020-01-10
END:VEVENT
END:VCALENDAR
