BEGIN:VCALENDAR
VERSION:2.0
PRODID:-//Sabre//Sabre VObject 4.5.8//EN
CALSCALE:GREGORIAN
BEGIN:VEVENT
UID:criticalmass-one-altona-1547226000
DTSTAMP:20260424T105809Z
SUMMARY:Critical Mass Altona 11.01.2019
DTSTART;TZID=Europe/Berlin:20190111T180000
DTEND;TZID=Europe/Berlin:20190111T200000
LOCATION:Rathaus Altona
GEO:53.547517;9.935285
URL;VALUE=URI:https://criticalmass.in/altona/2019-01-11
END:VEVENT
END:VCALENDAR
