BEGIN:VCALENDAR
VERSION:2.0
PRODID:-//Sabre//Sabre VObject 4.5.8//EN
CALSCALE:GREGORIAN
BEGIN:VEVENT
UID:criticalmass-one-altona-1544806800
DTSTAMP:20260425T172302Z
SUMMARY:Critical Mass Altona 14.12.2018
DTSTART;TZID=Europe/Berlin:20181214T180000
DTEND;TZID=Europe/Berlin:20181214T200000
LOCATION:Rathaus Altona
GEO:53.547517;9.935285
URL;VALUE=URI:https://criticalmass.in/altona/2018-12-14
END:VEVENT
END:VCALENDAR
