BEGIN:VCALENDAR
VERSION:2.0
PRODID:-//Sabre//Sabre VObject 4.5.8//EN
CALSCALE:GREGORIAN
BEGIN:VEVENT
UID:criticalmass-one-altona-1533916800
DTSTAMP:20260424T105915Z
SUMMARY:Critical Mass Altona 10.08.2018
DTSTART;TZID=Europe/Berlin:20180810T180000
DTEND;TZID=Europe/Berlin:20180810T200000
LOCATION:Rathaus Altona
GEO:53.547517;9.935285
URL;VALUE=URI:https://criticalmass.in/altona/2018-08-10
END:VEVENT
END:VCALENDAR
