BEGIN:VCALENDAR
VERSION:2.0
PRODID:-//Sabre//Sabre VObject 4.5.8//EN
CALSCALE:GREGORIAN
BEGIN:VEVENT
UID:criticalmass-one-altona-1520614800
DTSTAMP:20260424T135030Z
SUMMARY:Critical Mass Altona 09.03.2018
DTSTART;TZID=Europe/Berlin:20180309T180000
DTEND;TZID=Europe/Berlin:20180309T200000
LOCATION:Rathaus Altona
GEO:53.547517;9.935285
URL;VALUE=URI:https://criticalmass.in/altona/2018-03-09
END:VEVENT
END:VCALENDAR
