BEGIN:VCALENDAR
VERSION:2.0
PRODID:-//Sabre//Sabre VObject 4.5.8//EN
CALSCALE:GREGORIAN
BEGIN:VEVENT
UID:criticalmass-one-altona-1515776400
DTSTAMP:20260424T105913Z
SUMMARY:Critical Mass Altona 12.01.2018
DTSTART;TZID=Europe/Berlin:20180112T180000
DTEND;TZID=Europe/Berlin:20180112T200000
LOCATION:Rathaus Altona
GEO:53.547517;9.935285
URL;VALUE=URI:https://criticalmass.in/altona/2018-01-12
END:VEVENT
END:VCALENDAR
