BEGIN:VCALENDAR
VERSION:2.0
PRODID:-//Sabre//Sabre VObject 4.5.8//EN
CALSCALE:GREGORIAN
BEGIN:VEVENT
UID:criticalmass-one-altona-1512752400
DTSTAMP:20260425T001648Z
SUMMARY:Critical Mass Altona 08.12.2017
DTSTART;TZID=Europe/Berlin:20171208T180000
DTEND;TZID=Europe/Berlin:20171208T200000
LOCATION:Rathaus Altona
GEO:53.547517;9.935285
URL;VALUE=URI:https://criticalmass.in/altona/2017-12-08
END:VEVENT
END:VCALENDAR
