BEGIN:VCALENDAR
VERSION:2.0
PRODID:-//Sabre//Sabre VObject 4.5.8//EN
CALSCALE:GREGORIAN
BEGIN:VEVENT
UID:criticalmass-one-altona-1502467200
DTSTAMP:20260425T001632Z
SUMMARY:Critical Mass Altona 11.08.2017
DTSTART;TZID=Europe/Berlin:20170811T180000
DTEND;TZID=Europe/Berlin:20170811T200000
LOCATION:Rathaus Altona
GEO:53.547517;9.935285
URL;VALUE=URI:https://criticalmass.in/altona/2017-08-11
END:VEVENT
END:VCALENDAR
