BEGIN:VCALENDAR
VERSION:2.0
PRODID:-//Sabre//Sabre VObject 4.5.8//EN
CALSCALE:GREGORIAN
BEGIN:VEVENT
UID:criticalmass-one-altona-1494604800
DTSTAMP:20260424T134638Z
SUMMARY:Critical Mass Altona 12.05.2017
DTSTART;TZID=Europe/Berlin:20170512T180000
DTEND;TZID=Europe/Berlin:20170512T200000
LOCATION:Rathaus Altona
GEO:53.547517;9.935285
URL;VALUE=URI:https://criticalmass.in/altona/2017-05-12
END:VEVENT
END:VCALENDAR
