BEGIN:VCALENDAR
VERSION:2.0
PRODID:-//Sabre//Sabre VObject 4.5.8//EN
CALSCALE:GREGORIAN
BEGIN:VEVENT
UID:criticalmass-one-altona-1444406400
DTSTAMP:20260424T065128Z
SUMMARY:Critical Mass Altona 09.10.2015
DTSTART;TZID=Europe/Berlin:20151009T180000
DTEND;TZID=Europe/Berlin:20151009T200000
LOCATION:Rathaus Altona
GEO:53.547517;9.935285
URL;VALUE=URI:https://criticalmass.in/altona/2015-10-09
END:VEVENT
END:VCALENDAR
