BEGIN:VCALENDAR
VERSION:2.0
PRODID:-//Sabre//Sabre VObject 4.5.8//EN
CALSCALE:GREGORIAN
BEGIN:VEVENT
UID:criticalmass-one-altona-1431100800
DTSTAMP:20260424T115625Z
SUMMARY:Nice Ride Altona
DTSTART;TZID=Europe/Berlin:20150508T180000
DTEND;TZID=Europe/Berlin:20150508T200000
LOCATION:Rathaus Altona
GEO:53.547142;9.935331
URL;VALUE=URI:https://criticalmass.in/altona/2015-05-08
END:VEVENT
END:VCALENDAR
