BEGIN:VCALENDAR
VERSION:2.0
PRODID:-//Sabre//Sabre VObject 4.5.8//EN
CALSCALE:GREGORIAN
BEGIN:VEVENT
UID:criticalmass-one-albany-1769882400
DTSTAMP:20260422T124113Z
SUMMARY:Alex Pretti Memorial Ride — Albany Social Cycling
DESCRIPTION:On Saturday\, January 31st at 1\n  PM\, starting in Washington 
 Park\, we ride to honor his memory
DTSTART;TZID=America/New_York:20260131T130000
DTEND;TZID=America/New_York:20260131T150000
LOCATION:Washington Park\, Albany
GEO:42.665073;-73.751279
URL;VALUE=URI:https://criticalmass.in/albany/alex-pretti-memorial-ride-alba
 ny-2026-01-31
END:VEVENT
END:VCALENDAR
