BEGIN:VCALENDAR
VERSION:2.0
PRODID:-//Sabre//Sabre VObject 4.5.8//EN
CALSCALE:GREGORIAN
BEGIN:VEVENT
UID:criticalmass-one-affoltern-am-albis-1774634400
DTSTAMP:20260421T145909Z
SUMMARY:Critical Mass Affoltern 27.03.2026
DTSTART;TZID=Europe/Berlin:20260327T190000
DTEND;TZID=Europe/Berlin:20260327T210000
LOCATION:Marktplatz
GEO:47.276718;8.451287
URL;VALUE=URI:https://criticalmass.in/affoltern-am-albis/2026-03-27
END:VEVENT
END:VCALENDAR
