BEGIN:VCALENDAR
VERSION:2.0
PRODID:-//Sabre//Sabre VObject 4.5.8//EN
CALSCALE:GREGORIAN
BEGIN:VEVENT
UID:criticalmass-one-achern-1772211600
DTSTAMP:20260424T021946Z
SUMMARY:Critical Mass Achern 27.02.2026
DTSTART;TZID=Europe/Berlin:20260227T180000
DTEND;TZID=Europe/Berlin:20260227T200000
LOCATION:Rathausplatz
URL;VALUE=URI:https://criticalmass.in/achern/2026-02-27
END:VEVENT
END:VCALENDAR
