BEGIN:VCALENDAR
VERSION:2.0
PRODID:-//Sabre//Sabre VObject 4.5.8//EN
CALSCALE:GREGORIAN
BEGIN:VEVENT
UID:criticalmass-one-achern-1719590400
DTSTAMP:20260423T194927Z
SUMMARY:Critical Mass Achern 28.06.2024
DTSTART;TZID=Europe/Berlin:20240628T180000
DTEND;TZID=Europe/Berlin:20240628T200000
LOCATION:Rathausplatz
URL;VALUE=URI:https://criticalmass.in/achern/2024-06-28
END:VEVENT
END:VCALENDAR
