BEGIN:VCALENDAR
VERSION:2.0
PRODID:-//Sabre//Sabre VObject 4.5.8//EN
CALSCALE:GREGORIAN
BEGIN:VEVENT
UID:criticalmass-one-achern-1703869200
DTSTAMP:20260421T222944Z
SUMMARY:Critical Mass Achern 29.12.2023
DTSTART;TZID=Europe/Berlin:20231229T180000
DTEND;TZID=Europe/Berlin:20231229T200000
LOCATION:Rathausplatz
URL;VALUE=URI:https://criticalmass.in/achern/2023-12-29
END:VEVENT
END:VCALENDAR
