BEGIN:VCALENDAR
VERSION:2.0
PRODID:-//Sabre//Sabre VObject 4.5.8//EN
CALSCALE:GREGORIAN
BEGIN:VEVENT
UID:criticalmass-one-achern-1698422400
DTSTAMP:20260422T050327Z
SUMMARY:Critical Mass Achern 27.10.2023
DTSTART;TZID=Europe/Berlin:20231027T180000
DTEND;TZID=Europe/Berlin:20231027T200000
LOCATION:Rathausplatz
URL;VALUE=URI:https://criticalmass.in/achern/2023-10-27
END:VEVENT
END:VCALENDAR
