BEGIN:VCALENDAR
VERSION:2.0
PRODID:-//Sabre//Sabre VObject 4.5.8//EN
CALSCALE:GREGORIAN
BEGIN:VEVENT
UID:criticalmass-one-achern-1690560000
DTSTAMP:20260422T191113Z
SUMMARY:Critical Mass Achern 28.07.2023
DTSTART;TZID=Europe/Berlin:20230728T180000
DTEND;TZID=Europe/Berlin:20230728T200000
LOCATION:Rathausplatz
URL;VALUE=URI:https://criticalmass.in/achern/2023-07-28
END:VEVENT
END:VCALENDAR
