BEGIN:VCALENDAR
VERSION:2.0
PRODID:-//Sabre//Sabre VObject 4.5.8//EN
CALSCALE:GREGORIAN
BEGIN:VEVENT
UID:criticalmass-one-achern-1688140800
DTSTAMP:20260424T234600Z
SUMMARY:Critical Mass Achern 30.06.2023
DTSTART;TZID=Europe/Berlin:20230630T180000
DTEND;TZID=Europe/Berlin:20230630T200000
LOCATION:Rathausplatz
URL;VALUE=URI:https://criticalmass.in/achern/2023-06-30
END:VEVENT
END:VCALENDAR
