BEGIN:VCALENDAR
VERSION:2.0
PRODID:-//Sabre//Sabre VObject 4.5.8//EN
CALSCALE:GREGORIAN
BEGIN:VEVENT
UID:criticalmass-one-achern-1674838800
DTSTAMP:20260426T003214Z
SUMMARY:Critical Mass Achern 27.01.2023
DTSTART;TZID=Europe/Berlin:20230127T180000
DTEND;TZID=Europe/Berlin:20230127T200000
LOCATION:Rathausplatz
URL;VALUE=URI:https://criticalmass.in/achern/2023-01-27
END:VEVENT
END:VCALENDAR
