BEGIN:VCALENDAR
VERSION:2.0
PRODID:-//Sabre//Sabre VObject 4.5.8//EN
CALSCALE:GREGORIAN
BEGIN:VEVENT
UID:criticalmass-one-achern-1640970000
DTSTAMP:20260422T013347Z
SUMMARY:Critical Mass Achern 31.12.2021
DTSTART;TZID=Europe/Berlin:20211231T180000
DTEND;TZID=Europe/Berlin:20211231T200000
LOCATION:Rathausplatz
URL;VALUE=URI:https://criticalmass.in/achern/2021-12-31
END:VEVENT
END:VCALENDAR
