BEGIN:VCALENDAR
VERSION:2.0
PRODID:-//Sabre//Sabre VObject 4.5.8//EN
CALSCALE:GREGORIAN
BEGIN:VEVENT
UID:criticalmass-one-achern-1637946000
DTSTAMP:20260423T050744Z
SUMMARY:Critical Mass Achern 26.11.2021
DTSTART;TZID=Europe/Berlin:20211126T180000
DTEND;TZID=Europe/Berlin:20211126T200000
LOCATION:Rathausplatz
URL;VALUE=URI:https://criticalmass.in/achern/2021-11-26
END:VEVENT
END:VCALENDAR
