BEGIN:VCALENDAR
VERSION:2.0
PRODID:-//Sabre//Sabre VObject 4.5.8//EN
CALSCALE:GREGORIAN
BEGIN:VEVENT
UID:criticalmass-one-achern-1627660800
DTSTAMP:20260423T191837Z
SUMMARY:Critical Mass Achern 30.07.2021
DTSTART;TZID=Europe/Berlin:20210730T180000
DTEND;TZID=Europe/Berlin:20210730T200000
LOCATION:Rathausplatz
URL;VALUE=URI:https://criticalmass.in/achern/2021-07-30
END:VEVENT
END:VCALENDAR
