BEGIN:VCALENDAR
VERSION:2.0
PRODID:-//Sabre//Sabre VObject 4.5.8//EN
CALSCALE:GREGORIAN
BEGIN:VEVENT
UID:criticalmass-one-achern-1624636800
DTSTAMP:20260422T032619Z
SUMMARY:Critical Mass Achern 25.06.2021
DTSTART;TZID=Europe/Berlin:20210625T180000
DTEND;TZID=Europe/Berlin:20210625T200000
LOCATION:Rathausplatz
URL;VALUE=URI:https://criticalmass.in/achern/2021-06-25
END:VEVENT
END:VCALENDAR
