BEGIN:VCALENDAR
VERSION:2.0
PRODID:-//Sabre//Sabre VObject 4.5.8//EN
CALSCALE:GREGORIAN
BEGIN:VEVENT
UID:criticalmass-one-achern-1614358800
DTSTAMP:20260422T032618Z
SUMMARY:Critical Mass Achern 26.02.2021
DTSTART;TZID=Europe/Berlin:20210226T180000
DTEND;TZID=Europe/Berlin:20210226T200000
LOCATION:Rathausplatz
URL;VALUE=URI:https://criticalmass.in/achern/2021-02-26
END:VEVENT
END:VCALENDAR
